BEGIN:VCALENDAR
VERSION:2.0
CALSCALE:GREGORIAN
METHOD:PUBLISH
PRODID://SCIH//1423475
BEGIN:VEVENT
DTSTAMP:20260421T002358
VTIMEZONE:America/Denver
DTSTART:20260430T140000Z
DTEND:20260430T150000Z
UID:1423475
SUMMARY:Cafe with the Chamber â˜•
LOCATION:Antojos Eatery and Cafe, 170 Blue Lakes BLVD, Twin Falls, ID, 83301
DESCRIPTION:Cafe with the Chamber â˜•\n\n04/30/26 08:00 AM MST\n - 04/30/26 09:00 AM MST\Location:\nAntojos Eatery and Cafe\n170 Blue Lakes BLVD\nTwin Falls, ID 83301
X-ALT-DESC;FMTTYPE=text/html:Cafe with the Chamber â˜•<br /><br />04/30/26 08:00 AM MST - 04/30/26 09:00 AM MST<br />Location:<br />Antojos Eatery and Cafe<br />170 Blue Lakes BLVD<br />Twin Falls, ID 83301
PRIORITY:3
TRANSP:TRANSPARENT
BEGIN:VALARM
TRIGGER:-PT5M
ACTION:DISPLAY
DESCRIPTION:Reminder
END:VALARM
END:VEVENT
END:VCALENDAR
