BEGIN:VCALENDAR
VERSION:2.0
CALSCALE:GREGORIAN
METHOD:PUBLISH
PRODID://SCIH//1410945
BEGIN:VEVENT
DTSTAMP:20260421T034822
VTIMEZONE:America/Denver
DTSTART:20260226T150000Z
DTEND:20260226T160000Z
UID:1410945
SUMMARY:Cafe with the Chamber â˜•
LOCATION:, 162 Main Ave W, Twin Falls, ID, 83301
DESCRIPTION:Cafe with the Chamber â˜•\n\n02/26/26 08:00 AM MST\n - 02/26/26 09:00 AM MST\Location:\n\n162 Main Ave W\nTwin Falls, ID 83301
X-ALT-DESC;FMTTYPE=text/html:Cafe with the Chamber â˜•<br /><br />02/26/26 08:00 AM MST - 02/26/26 09:00 AM MST<br />Location:<br /><br />162 Main Ave W<br />Twin Falls, ID 83301
PRIORITY:3
TRANSP:TRANSPARENT
BEGIN:VALARM
TRIGGER:-PT5M
ACTION:DISPLAY
DESCRIPTION:Reminder
END:VALARM
END:VEVENT
END:VCALENDAR
